BEGIN:VCALENDAR
VERSION:2.0
PRODID:-//Site officiel de L&#039;Isle d&#039;Espagnac - ECPv6.3.6//NONSGML v1.0//EN
CALSCALE:GREGORIAN
METHOD:PUBLISH
X-WR-CALNAME:Site officiel de L&#039;Isle d&#039;Espagnac
X-ORIGINAL-URL:https://lisledespagnac.fr
X-WR-CALDESC:Évènements pour Site officiel de L&#039;Isle d&#039;Espagnac
REFRESH-INTERVAL;VALUE=DURATION:PT1H
X-Robots-Tag:noindex
X-PUBLISHED-TTL:PT1H
BEGIN:VTIMEZONE
TZID:Europe/Paris
BEGIN:DAYLIGHT
TZOFFSETFROM:+0100
TZOFFSETTO:+0200
TZNAME:CEST
DTSTART:20240331T010000
END:DAYLIGHT
BEGIN:STANDARD
TZOFFSETFROM:+0200
TZOFFSETTO:+0100
TZNAME:CET
DTSTART:20241027T010000
END:STANDARD
END:VTIMEZONE
BEGIN:VEVENT
DTSTART;TZID=Europe/Paris:20240213T173000
DTEND;TZID=Europe/Paris:20240213T173000
DTSTAMP:20260423T181059
CREATED:20240202T101317Z
LAST-MODIFIED:20240202T101700Z
UID:5772-1707845400-1707845400@lisledespagnac.fr
SUMMARY:Spectacle de conte et musique
DESCRIPTION:NOUVEAU !\nPetits et grands\, venez écouter des histoires… \nSpectacle de conte et musique\n« Chacun sa gourmandise » \nMardi 13 février 2024\n17h30 | Espace Victor Hugo \nProposé par l’association Cont’en Sac\nUn goûter sera offert avant le spectacle\nEntrée gratuite\nRenseignements : 05 45 68 33 17 \nEt dès les beaux jours\, des balades contées sur la commune vous serons proposées…
URL:https://lisledespagnac.fr/agenda/spectacle-de-conte-et-musique/
LOCATION:Espace Victor Hugo
CATEGORIES:Animations pour enfants
ATTACH;FMTTYPE=image/jpeg:https://lisledespagnac.fr/wp-content/uploads/2024/02/lisle-despagnac-agenda-conte-musique.jpg
ORGANIZER;CN="Mairie":MAILTO:accueil@mairie-lisledespagnac.fr
END:VEVENT
BEGIN:VEVENT
DTSTART;TZID=Europe/Paris:20240221T103000
DTEND;TZID=Europe/Paris:20240223T150000
DTSTAMP:20260423T181059
CREATED:20240202T140712Z
LAST-MODIFIED:20240202T140951Z
UID:5786-1708511400-1708700400@lisledespagnac.fr
SUMMARY:Ateliers scientifiques à la Médiathèque
DESCRIPTION:Pendant les vacances scolaires\, plusieurs ateliers sont proposés à la Médiathèque dans le cadre du programme « Curioz’hiver » : \nmercredi 21 février\n10h30 : « Et l’eau » pour les 4/7 ans\n14h15 : « Le secret des dinosaures » pour les 8/12 ans \nvendredi 23 février\n10h30 : « Tests d’analyses sensorielles » pour les 4/7 ans\n14h15 : « Traces et indices » pour les 8/12 ans \nLes inscriptions se font en ligne sur : www.emf.fr/billetterie/
URL:https://lisledespagnac.fr/agenda/5786/
LOCATION:Médiathèque\, 5 rue de la Résistance\, L’Isle d’Espagnac\, 16340
CATEGORIES:Animations pour enfants
ATTACH;FMTTYPE=image/jpeg:https://lisledespagnac.fr/wp-content/uploads/2024/02/lisle-despagnac-agenda-curiozhiver.jpg
END:VEVENT
BEGIN:VEVENT
DTSTART;TZID=Europe/Paris:20240222T133000
DTEND;TZID=Europe/Paris:20240222T133000
DTSTAMP:20260423T181059
CREATED:20240213T162857Z
LAST-MODIFIED:20240213T163444Z
UID:5802-1708608600-1708608600@lisledespagnac.fr
SUMMARY:Atelier Pâtisserie
DESCRIPTION:
URL:https://lisledespagnac.fr/agenda/atelier-patisserie-2/
LOCATION:Espace Victor Hugo
CATEGORIES:Animations pour enfants
ATTACH;FMTTYPE=image/jpeg:https://lisledespagnac.fr/wp-content/uploads/2024/02/lisle-despagnac-agenda-atelier-patisserie-enfants.jpg
ORGANIZER;CN="Mairie":MAILTO:accueil@mairie-lisledespagnac.fr
END:VEVENT
BEGIN:VEVENT
DTSTART;TZID=Europe/Paris:20240226T133000
DTEND;TZID=Europe/Paris:20240226T133000
DTSTAMP:20260423T181059
CREATED:20240213T163226Z
LAST-MODIFIED:20240213T163305Z
UID:5807-1708954200-1708954200@lisledespagnac.fr
SUMMARY:Atelier Scrapbooking
DESCRIPTION:
URL:https://lisledespagnac.fr/agenda/atelier-scrapbooking/
LOCATION:Espace Victor Hugo
CATEGORIES:Animations pour enfants
ATTACH;FMTTYPE=image/jpeg:https://lisledespagnac.fr/wp-content/uploads/2024/02/lisle-despagnac-agenda-atelier-scrapbooking.jpg
ORGANIZER;CN="Mairie":MAILTO:accueil@mairie-lisledespagnac.fr
END:VEVENT
END:VCALENDAR