BEGIN:VCALENDAR
VERSION:2.0
PRODID:-//Site officiel de L&#039;Isle d&#039;Espagnac - ECPv6.3.6//NONSGML v1.0//EN
CALSCALE:GREGORIAN
METHOD:PUBLISH
X-WR-CALNAME:Site officiel de L&#039;Isle d&#039;Espagnac
X-ORIGINAL-URL:https://lisledespagnac.fr
X-WR-CALDESC:Évènements pour Site officiel de L&#039;Isle d&#039;Espagnac
REFRESH-INTERVAL;VALUE=DURATION:PT1H
X-Robots-Tag:noindex
X-PUBLISHED-TTL:PT1H
BEGIN:VTIMEZONE
TZID:Europe/Paris
BEGIN:DAYLIGHT
TZOFFSETFROM:+0100
TZOFFSETTO:+0200
TZNAME:CEST
DTSTART:20230326T010000
END:DAYLIGHT
BEGIN:STANDARD
TZOFFSETFROM:+0200
TZOFFSETTO:+0100
TZNAME:CET
DTSTART:20231029T010000
END:STANDARD
END:VTIMEZONE
BEGIN:VEVENT
DTSTART;TZID=Europe/Paris:20231025T090000
DTEND;TZID=Europe/Paris:20231027T163000
DTSTAMP:20260424T150427
CREATED:20231010T144939Z
LAST-MODIFIED:20231010T144939Z
UID:5444-1698224400-1698424200@lisledespagnac.fr
SUMMARY:Stage Multisports
DESCRIPTION:
URL:https://lisledespagnac.fr/agenda/stage-multisports-2/
LOCATION:L’Isle ô Sports\, 24B Avenue Jean Jaurès\, 16340 L'Isle-d'Espagnac\, L'Isle d'Espagnac\, 16340\, France
CATEGORIES:Animations pour enfants,Sport
ATTACH;FMTTYPE=image/jpeg:https://lisledespagnac.fr/wp-content/uploads/2023/10/lisle-despagnac-agenda-stage-multisports-cirque.jpg
ORGANIZER;CN="Mairie":MAILTO:accueil@mairie-lisledespagnac.fr
END:VEVENT
BEGIN:VEVENT
DTSTART;TZID=Europe/Paris:20231025T140000
DTEND;TZID=Europe/Paris:20231025T140000
DTSTAMP:20260424T150427
CREATED:20231013T142641Z
LAST-MODIFIED:20231013T143017Z
UID:5469-1698242400-1698242400@lisledespagnac.fr
SUMMARY:Ciné surprise à la Médiathèque
DESCRIPTION:
URL:https://lisledespagnac.fr/agenda/cine-surprise-a-la-mediatheque/
LOCATION:Espace Victor Hugo
CATEGORIES:Animations pour enfants
ATTACH;FMTTYPE=image/jpeg:https://lisledespagnac.fr/wp-content/uploads/2023/10/lisle-despagnac-agenda-animations-vacances-cinema.jpg
ORGANIZER;CN="Mairie":MAILTO:accueil@mairie-lisledespagnac.fr
END:VEVENT
END:VCALENDAR