BEGIN:VCALENDAR
VERSION:2.0
PRODID:-//Site officiel de L&#039;Isle d&#039;Espagnac - ECPv6.3.6//NONSGML v1.0//EN
CALSCALE:GREGORIAN
METHOD:PUBLISH
X-WR-CALNAME:Site officiel de L&#039;Isle d&#039;Espagnac
X-ORIGINAL-URL:https://lisledespagnac.fr
X-WR-CALDESC:Évènements pour Site officiel de L&#039;Isle d&#039;Espagnac
REFRESH-INTERVAL;VALUE=DURATION:PT1H
X-Robots-Tag:noindex
X-PUBLISHED-TTL:PT1H
BEGIN:VTIMEZONE
TZID:Europe/Paris
BEGIN:DAYLIGHT
TZOFFSETFROM:+0100
TZOFFSETTO:+0200
TZNAME:CEST
DTSTART:20240331T010000
END:DAYLIGHT
BEGIN:STANDARD
TZOFFSETFROM:+0200
TZOFFSETTO:+0100
TZNAME:CET
DTSTART:20241027T010000
END:STANDARD
END:VTIMEZONE
BEGIN:VEVENT
DTSTART;TZID=Europe/Paris:20241204T101500
DTEND;TZID=Europe/Paris:20241204T101500
DTSTAMP:20260422T111226
CREATED:20241113T155508Z
LAST-MODIFIED:20241113T155903Z
UID:7118-1733307300-1733307300@lisledespagnac.fr
SUMMARY:Ateliers : lectures de Noël
DESCRIPTION:Les animations jeunesse de la Médiathèque : les lectures au coin du feu\nVenez avec votre plaid et votre pull de Noël\, écouter les histoires d’Augusta… \n  \nMercredi 4 décembre 2024 \npublic 6-10 ans \n10h15-11h30 \net 14h15-15h30 \nlecture animée suivie d’un atelier déco de Noël\, tissage et origami \nSUR INSCRIPTION : 05 45 38 62 03
URL:https://lisledespagnac.fr/agenda/ateliers-lectures-de-noel/
LOCATION:Médiathèque\, 5 rue de la Résistance\, L’Isle d’Espagnac\, 16340
CATEGORIES:Animations pour enfants,Médiathèque
ATTACH;FMTTYPE=image/jpeg:https://lisledespagnac.fr/wp-content/uploads/2024/11/lisle-despagnac-mediatheque-lecture-noel-1.jpg
ORGANIZER;CN="Mairie":MAILTO:accueil@mairie-lisledespagnac.fr
END:VEVENT
END:VCALENDAR