BEGIN:VCALENDAR
VERSION:2.0
PRODID:-//Site officiel de L&#039;Isle d&#039;Espagnac - ECPv6.3.6//NONSGML v1.0//EN
CALSCALE:GREGORIAN
METHOD:PUBLISH
X-WR-CALNAME:Site officiel de L&#039;Isle d&#039;Espagnac
X-ORIGINAL-URL:https://lisledespagnac.fr
X-WR-CALDESC:Évènements pour Site officiel de L&#039;Isle d&#039;Espagnac
REFRESH-INTERVAL;VALUE=DURATION:PT1H
X-Robots-Tag:noindex
X-PUBLISHED-TTL:PT1H
BEGIN:VTIMEZONE
TZID:Europe/Paris
BEGIN:DAYLIGHT
TZOFFSETFROM:+0100
TZOFFSETTO:+0200
TZNAME:CEST
DTSTART:20230326T010000
END:DAYLIGHT
BEGIN:STANDARD
TZOFFSETFROM:+0200
TZOFFSETTO:+0100
TZNAME:CET
DTSTART:20231029T010000
END:STANDARD
END:VTIMEZONE
BEGIN:VEVENT
DTSTART;TZID=Europe/Paris:20230622T190000
DTEND;TZID=Europe/Paris:20230622T190000
DTSTAMP:20260422T120715
CREATED:20230202T114219Z
LAST-MODIFIED:20230530T154507Z
UID:3970-1687460400-1687460400@lisledespagnac.fr
SUMMARY:Conseil de tous les quartiers // 22 juin
DESCRIPTION:Venez découvrir les projets lauréats du Budget Participatif  lors de cette réunion de TOUS les quartiers !
URL:https://lisledespagnac.fr/agenda/conseil-de-tous-les-quartiers-1er-juin/
LOCATION:Mairie\, Place François Mitterrand\, L’Isle d’Espagnac\, 16340\, France
CATEGORIES:Conseil de quartier
ATTACH;FMTTYPE=image/png:https://lisledespagnac.fr/wp-content/uploads/2023/01/lisle-despagnac-agenda-conseil-de-quartier.png
ORGANIZER;CN="Mairie":MAILTO:accueil@mairie-lisledespagnac.fr
END:VEVENT
END:VCALENDAR