BEGIN:VCALENDAR
VERSION:2.0
PRODID:-//Site officiel de L&#039;Isle d&#039;Espagnac - ECPv6.3.6//NONSGML v1.0//EN
CALSCALE:GREGORIAN
METHOD:PUBLISH
X-ORIGINAL-URL:https://lisledespagnac.fr
X-WR-CALDESC:Évènements pour Site officiel de L&#039;Isle d&#039;Espagnac
REFRESH-INTERVAL;VALUE=DURATION:PT1H
X-Robots-Tag:noindex
X-PUBLISHED-TTL:PT1H
BEGIN:VTIMEZONE
TZID:Europe/Paris
BEGIN:DAYLIGHT
TZOFFSETFROM:+0100
TZOFFSETTO:+0200
TZNAME:CEST
DTSTART:20240331T010000
END:DAYLIGHT
BEGIN:STANDARD
TZOFFSETFROM:+0200
TZOFFSETTO:+0100
TZNAME:CET
DTSTART:20241027T010000
END:STANDARD
END:VTIMEZONE
BEGIN:VEVENT
DTSTART;TZID=Europe/Paris:20240613T190000
DTEND;TZID=Europe/Paris:20240613T190000
DTSTAMP:20260421T135413
CREATED:20240605T122613Z
LAST-MODIFIED:20240605T122652Z
UID:6299-1718305200-1718305200@lisledespagnac.fr
SUMMARY:Super Conseil de tous les quartiers !
DESCRIPTION:Venez découvrir les projets retenus pour le Budget Participatif 2024 !\n\n\n\nJeudi 13 juin\n19h à la Mairie\n\n\n\nRenseignements : 05 45 38 62 00
URL:https://lisledespagnac.fr/agenda/super-conseil-de-tous-les-quartiers/
LOCATION:Mairie\, Place François Mitterrand\, L’Isle d’Espagnac\, 16340\, France
CATEGORIES:Conseil de quartier
ATTACH;FMTTYPE=image/jpeg:https://lisledespagnac.fr/wp-content/uploads/2024/06/puzzle-conseil-des-quartiers.jpg
ORGANIZER;CN="Mairie":MAILTO:accueil@mairie-lisledespagnac.fr
END:VEVENT
END:VCALENDAR