BEGIN:VCALENDAR
VERSION:2.0
PRODID:-//Site officiel de L&#039;Isle d&#039;Espagnac - ECPv6.3.6//NONSGML v1.0//EN
CALSCALE:GREGORIAN
METHOD:PUBLISH
X-WR-CALNAME:Site officiel de L&#039;Isle d&#039;Espagnac
X-ORIGINAL-URL:https://lisledespagnac.fr
X-WR-CALDESC:Évènements pour Site officiel de L&#039;Isle d&#039;Espagnac
REFRESH-INTERVAL;VALUE=DURATION:PT1H
X-Robots-Tag:noindex
X-PUBLISHED-TTL:PT1H
BEGIN:VTIMEZONE
TZID:Europe/Paris
BEGIN:DAYLIGHT
TZOFFSETFROM:+0100
TZOFFSETTO:+0200
TZNAME:CEST
DTSTART:20230326T010000
END:DAYLIGHT
BEGIN:STANDARD
TZOFFSETFROM:+0200
TZOFFSETTO:+0100
TZNAME:CET
DTSTART:20231029T010000
END:STANDARD
END:VTIMEZONE
BEGIN:VEVENT
DTSTART;TZID=Europe/Paris:20230316T190000
DTEND;TZID=Europe/Paris:20230316T190000
DTSTAMP:20260423T003058
CREATED:20230202T113712Z
LAST-MODIFIED:20230306T142550Z
UID:3964-1678993200-1678993200@lisledespagnac.fr
SUMMARY:Conseil de Quartier // Églantine // 16 mars
DESCRIPTION:
URL:https://lisledespagnac.fr/agenda/conseil-de-quartier-eglantine-16-mars/
LOCATION:Mairie\, Place François Mitterrand\, L’Isle d’Espagnac\, 16340\, France
CATEGORIES:Conseil de quartier
ATTACH;FMTTYPE=image/png:https://lisledespagnac.fr/wp-content/uploads/2023/01/lisle-despagnac-agenda-conseil-de-quartier.png
ORGANIZER;CN="Mairie":MAILTO:accueil@mairie-lisledespagnac.fr
END:VEVENT
END:VCALENDAR