BEGIN:VCALENDAR
VERSION:2.0
PRODID:-//Site officiel de L&#039;Isle d&#039;Espagnac - ECPv6.3.6//NONSGML v1.0//EN
CALSCALE:GREGORIAN
METHOD:PUBLISH
X-ORIGINAL-URL:https://lisledespagnac.fr
X-WR-CALDESC:Évènements pour Site officiel de L&#039;Isle d&#039;Espagnac
REFRESH-INTERVAL;VALUE=DURATION:PT1H
X-Robots-Tag:noindex
X-PUBLISHED-TTL:PT1H
BEGIN:VTIMEZONE
TZID:Europe/Paris
BEGIN:DAYLIGHT
TZOFFSETFROM:+0100
TZOFFSETTO:+0200
TZNAME:CEST
DTSTART:20240331T010000
END:DAYLIGHT
BEGIN:STANDARD
TZOFFSETFROM:+0200
TZOFFSETTO:+0100
TZNAME:CET
DTSTART:20241027T010000
END:STANDARD
END:VTIMEZONE
BEGIN:VEVENT
DTSTART;VALUE=DATE:20241009
DTEND;VALUE=DATE:20241011
DTSTAMP:20260421T182114
CREATED:20240913T152921Z
LAST-MODIFIED:20240913T152921Z
UID:6806-1728432000-1728604799@lisledespagnac.fr
SUMMARY:Projet d'aménagement du centre bourg
DESCRIPTION:
URL:https://lisledespagnac.fr/agenda/projet-damenagement-du-centre-bourg/
LOCATION:Mairie\, Place François Mitterrand\, L’Isle d’Espagnac\, 16340\, France
CATEGORIES:Environnement
ATTACH;FMTTYPE=image/jpeg:https://lisledespagnac.fr/wp-content/uploads/2024/09/lisle-despagnac-agenda-projet-amenagement-centre-bourg.jpg
ORGANIZER;CN="Mairie":MAILTO:accueil@mairie-lisledespagnac.fr
END:VEVENT
END:VCALENDAR