BEGIN:VCALENDAR
VERSION:2.0
PRODID:-//Site officiel de L&#039;Isle d&#039;Espagnac - ECPv6.3.6//NONSGML v1.0//EN
CALSCALE:GREGORIAN
METHOD:PUBLISH
X-WR-CALNAME:Site officiel de L&#039;Isle d&#039;Espagnac
X-ORIGINAL-URL:https://lisledespagnac.fr
X-WR-CALDESC:Évènements pour Site officiel de L&#039;Isle d&#039;Espagnac
REFRESH-INTERVAL;VALUE=DURATION:PT1H
X-Robots-Tag:noindex
X-PUBLISHED-TTL:PT1H
BEGIN:VTIMEZONE
TZID:Europe/Paris
BEGIN:DAYLIGHT
TZOFFSETFROM:+0100
TZOFFSETTO:+0200
TZNAME:CEST
DTSTART:20250330T010000
END:DAYLIGHT
BEGIN:STANDARD
TZOFFSETFROM:+0200
TZOFFSETTO:+0100
TZNAME:CET
DTSTART:20251026T010000
END:STANDARD
END:VTIMEZONE
BEGIN:VEVENT
DTSTART;TZID=Europe/Paris:20250831T140000
DTEND;TZID=Europe/Paris:20250831T180000
DTSTAMP:20260421T141221
CREATED:20250703T082400Z
LAST-MODIFIED:20250828T090105Z
UID:7912-1756648800-1756663200@lisledespagnac.fr
SUMMARY:Fête des Sports
DESCRIPTION:La Mairie organise la cinquième édition de la Fête des Sports\, le dimanche 31 août 2025 de 14h à 18h au stade FCC / Tennis Club de L’Isle d’Espagnac.\n\n\n\nVous y trouverez un mur d’escalade et les associations de la commune vous proposeront des ateliers\, des démonstrations et de l’initiation.\n\n\n\n\nAthlétisme : G2A\nBoxe française : Savate 16\nBoxe : Team Aflalaye\nFootball : FCC\nHip Hop : Melting Hope\nJudo : Angoulême Judo\nTennis : Tennis Club\nTennis de table : 3STT\nKung Fu\nMur d’escalade\nAtelier peteca avec Corentin\n\n\n\n\n\n\nBuvette et restauration sur place.\n\nL’entrée est GRATUITE.\n\n\n\nNous vous attendons nombreux !\n\n\n\n 
URL:https://lisledespagnac.fr/agenda/fete-des-sports-3/
LOCATION:Stade FCC\, Football Club Charentais - 7 Rue Jules Ferry\, L'Isle-d'Espagnac\, 16340\, France
CATEGORIES:Sport
ATTACH;FMTTYPE=image/jpeg:https://lisledespagnac.fr/wp-content/uploads/2025/07/lisle-despagnac-agenda-fete-des-sports-2025.jpg
ORGANIZER;CN="Mairie":MAILTO:accueil@mairie-lisledespagnac.fr
END:VEVENT
END:VCALENDAR