BEGIN:VCALENDAR
VERSION:2.0
PRODID:-//Site officiel de L&#039;Isle d&#039;Espagnac - ECPv6.3.6//NONSGML v1.0//EN
CALSCALE:GREGORIAN
METHOD:PUBLISH
X-ORIGINAL-URL:https://lisledespagnac.fr
X-WR-CALDESC:Évènements pour Site officiel de L&#039;Isle d&#039;Espagnac
REFRESH-INTERVAL;VALUE=DURATION:PT1H
X-Robots-Tag:noindex
X-PUBLISHED-TTL:PT1H
BEGIN:VTIMEZONE
TZID:Europe/Paris
BEGIN:DAYLIGHT
TZOFFSETFROM:+0100
TZOFFSETTO:+0200
TZNAME:CEST
DTSTART:20250330T010000
END:DAYLIGHT
BEGIN:STANDARD
TZOFFSETFROM:+0200
TZOFFSETTO:+0100
TZNAME:CET
DTSTART:20251026T010000
END:STANDARD
END:VTIMEZONE
BEGIN:VEVENT
DTSTART;TZID=Europe/Paris:20251006T100000
DTEND;TZID=Europe/Paris:20251018T123000
DTSTAMP:20260425T163709
CREATED:20251001T133926Z
LAST-MODIFIED:20251001T134232Z
UID:8325-1759744800-1760790600@lisledespagnac.fr
SUMMARY:Exposition « Les Robes du Monde »
DESCRIPTION:L’Espace Victor Hugo et la Médiathèque vous proposent une exposition des créations de l’atelier couture « Au Bonheur des Dames » :\n\n\n\n« Les Robes du Monde »\n\n\n\nDATE | du 6 au 18 octobre 2025\nVERNISSAGE | le mardi 7 octobre à 17h30\nLIEU | Médiathèque\nRENSEIGNEMENTS | 05 45 38 62 03
URL:https://lisledespagnac.fr/agenda/exposition-les-robes-du-monde/
LOCATION:Médiathèque\, 5 rue de la Résistance\, L’Isle d’Espagnac\, 16340
CATEGORIES:Expositions,Vernissage
ATTACH;FMTTYPE=image/jpeg:https://lisledespagnac.fr/wp-content/uploads/2025/10/lisle-despagnac-agenda-expo-robes-du-monde.jpg
ORGANIZER;CN="Mairie":MAILTO:accueil@mairie-lisledespagnac.fr
END:VEVENT
BEGIN:VEVENT
DTSTART;TZID=Europe/Paris:20251011T100000
DTEND;TZID=Europe/Paris:20251012T180000
DTSTAMP:20260425T163709
CREATED:20250829T110239Z
LAST-MODIFIED:20250829T134710Z
UID:8068-1760176800-1760292000@lisledespagnac.fr
SUMMARY:Salon Les 3A
DESCRIPTION:La Mairie organise la 23ème édition du Salon Les 3A\, l’occasion de découvrir des céramiques\, sculptures sur pierre et sur bois\, poteries\, peintures\, broderies\, bijoux\, etc.\n\n\n\nDates | le samedi et le dimanche 11 et 12 octobre 2025\nHoraires | de 10h à 18h\nVernissage | le samedi 11 octobre 2025 à 11h30\n\nLieu | Espace Georges Brassens\nEntrée | gratuite\nRenseignements | 05 45 38 62 08
URL:https://lisledespagnac.fr/agenda/salon-les-3a-3/
LOCATION:Espace Georges Brassens\, 242 Avenue de La République\, L'Isle-d'Espagnac\, 16340
CATEGORIES:Expositions,Vernissage
ATTACH;FMTTYPE=image/jpeg:https://lisledespagnac.fr/wp-content/uploads/2025/08/lisle-despagnac-agenda-salon-les-3A-2025.jpg
ORGANIZER;CN="Mairie":MAILTO:accueil@mairie-lisledespagnac.fr
END:VEVENT
END:VCALENDAR