BEGIN:VCALENDAR
VERSION:2.0
PRODID:-//Site officiel de L&#039;Isle d&#039;Espagnac - ECPv6.3.6//NONSGML v1.0//EN
CALSCALE:GREGORIAN
METHOD:PUBLISH
X-ORIGINAL-URL:https://lisledespagnac.fr
X-WR-CALDESC:Évènements pour Site officiel de L&#039;Isle d&#039;Espagnac
REFRESH-INTERVAL;VALUE=DURATION:PT1H
X-Robots-Tag:noindex
X-PUBLISHED-TTL:PT1H
BEGIN:VTIMEZONE
TZID:Europe/Paris
BEGIN:DAYLIGHT
TZOFFSETFROM:+0100
TZOFFSETTO:+0200
TZNAME:CEST
DTSTART:20230326T010000
END:DAYLIGHT
BEGIN:STANDARD
TZOFFSETFROM:+0200
TZOFFSETTO:+0100
TZNAME:CET
DTSTART:20231029T010000
END:STANDARD
END:VTIMEZONE
BEGIN:VEVENT
DTSTART;TZID=Europe/Paris:20230207T140000
DTEND;TZID=Europe/Paris:20230207T170000
DTSTAMP:20260424T172017
CREATED:20230127T104310Z
LAST-MODIFIED:20230127T104510Z
UID:3806-1675778400-1675789200@lisledespagnac.fr
SUMMARY:Tournoi de tarot
DESCRIPTION:
URL:https://lisledespagnac.fr/agenda/tournoi-de-tarot/
LOCATION:Espace Georges Brassens\, 242 Avenue de La République\, L'Isle-d'Espagnac\, 16340
CATEGORIES:Vie Associative
ATTACH;FMTTYPE=image/png:https://lisledespagnac.fr/wp-content/uploads/2023/01/lisle-despagnac-agenda-tarot.png
END:VEVENT
END:VCALENDAR