BEGIN:VCALENDAR
VERSION:2.0
PRODID:-//Site officiel de L&#039;Isle d&#039;Espagnac - ECPv6.3.6//NONSGML v1.0//EN
CALSCALE:GREGORIAN
METHOD:PUBLISH
X-ORIGINAL-URL:https://lisledespagnac.fr
X-WR-CALDESC:Évènements pour Site officiel de L&#039;Isle d&#039;Espagnac
REFRESH-INTERVAL;VALUE=DURATION:PT1H
X-Robots-Tag:noindex
X-PUBLISHED-TTL:PT1H
BEGIN:VTIMEZONE
TZID:Europe/Paris
BEGIN:DAYLIGHT
TZOFFSETFROM:+0100
TZOFFSETTO:+0200
TZNAME:CEST
DTSTART:20260329T010000
END:DAYLIGHT
BEGIN:STANDARD
TZOFFSETFROM:+0200
TZOFFSETTO:+0100
TZNAME:CET
DTSTART:20261025T010000
END:STANDARD
END:VTIMEZONE
BEGIN:VEVENT
DTSTART;TZID=Europe/Paris:20260131T203000
DTEND;TZID=Europe/Paris:20260131T203000
DTSTAMP:20260421T153702
CREATED:20260107T101738Z
LAST-MODIFIED:20260119T084006Z
UID:8619-1769891400-1769891400@lisledespagnac.fr
SUMMARY:Loto de Latina Sol
DESCRIPTION:Latina Sol vous propose 2 grands lotos :\n\n\n\n\n\n31 janvier à 20h30\n1er février à 14h00\n\n\n\nEspace Georges Brassens\n\n\n\nInfos et réservations : 07 45 28 82 07
URL:https://lisledespagnac.fr/agenda/loto-de-latina-sol/
LOCATION:Espace Georges Brassens\, 242 Avenue de La République\, L'Isle-d'Espagnac\, 16340
CATEGORIES:Vie Associative
ATTACH;FMTTYPE=image/png:https://lisledespagnac.fr/wp-content/uploads/2023/03/lisle-despagnac-agenda-loto-ape.png
END:VEVENT
END:VCALENDAR