BEGIN:VCALENDAR
VERSION:2.0
PRODID:-//Site officiel de L&#039;Isle d&#039;Espagnac - ECPv6.3.6//NONSGML v1.0//EN
CALSCALE:GREGORIAN
METHOD:PUBLISH
X-WR-CALNAME:Site officiel de L&#039;Isle d&#039;Espagnac
X-ORIGINAL-URL:https://lisledespagnac.fr
X-WR-CALDESC:Évènements pour Site officiel de L&#039;Isle d&#039;Espagnac
REFRESH-INTERVAL;VALUE=DURATION:PT1H
X-Robots-Tag:noindex
X-PUBLISHED-TTL:PT1H
BEGIN:VTIMEZONE
TZID:Europe/Paris
BEGIN:DAYLIGHT
TZOFFSETFROM:+0100
TZOFFSETTO:+0200
TZNAME:CEST
DTSTART:20230326T010000
END:DAYLIGHT
BEGIN:STANDARD
TZOFFSETFROM:+0200
TZOFFSETTO:+0100
TZNAME:CET
DTSTART:20231029T010000
END:STANDARD
END:VTIMEZONE
BEGIN:VEVENT
DTSTART;TZID=Europe/Paris:20230611T130000
DTEND;TZID=Europe/Paris:20230611T130000
DTSTAMP:20260424T082315
CREATED:20230511T092808Z
LAST-MODIFIED:20230511T093413Z
UID:4654-1686488400-1686488400@lisledespagnac.fr
SUMMARY:Concours de belote
DESCRIPTION:Le dimanche 11 juin 2023 \nà la petite salle des fêtes de l’Espace Georges Brassens à L’Isle d’Espagnac \nOuverture des portes à 13h \nDébut des jeux à 14h \nEntrée 10€ \n1 lot pour chaque participant \nBuvette : boissons\, crêpes\, gâteaux… \nVenez nombreux ! \nRéservation au : 06 03 06 51 17
URL:https://lisledespagnac.fr/agenda/concours-de-belote/
LOCATION:Espace Georges Brassens\, 242 Avenue de La République\, L'Isle-d'Espagnac\, 16340
CATEGORIES:Vie Associative
ATTACH;FMTTYPE=image/png:https://lisledespagnac.fr/wp-content/uploads/2023/05/lisle-despagnac-agenda-logo-fcc.png
END:VEVENT
END:VCALENDAR