BEGIN:VCALENDAR
VERSION:2.0
PRODID:-//Site officiel de L&#039;Isle d&#039;Espagnac - ECPv6.3.6//NONSGML v1.0//EN
CALSCALE:GREGORIAN
METHOD:PUBLISH
X-ORIGINAL-URL:https://lisledespagnac.fr
X-WR-CALDESC:Évènements pour Site officiel de L&#039;Isle d&#039;Espagnac
REFRESH-INTERVAL;VALUE=DURATION:PT1H
X-Robots-Tag:noindex
X-PUBLISHED-TTL:PT1H
BEGIN:VTIMEZONE
TZID:Europe/Paris
BEGIN:DAYLIGHT
TZOFFSETFROM:+0100
TZOFFSETTO:+0200
TZNAME:CEST
DTSTART:20230326T010000
END:DAYLIGHT
BEGIN:STANDARD
TZOFFSETFROM:+0200
TZOFFSETTO:+0100
TZNAME:CET
DTSTART:20231029T010000
END:STANDARD
END:VTIMEZONE
BEGIN:VEVENT
DTSTART;TZID=Europe/Paris:20230923T140000
DTEND;TZID=Europe/Paris:20230923T180000
DTSTAMP:20260423T210209
CREATED:20230829T135449Z
LAST-MODIFIED:20230907T093251Z
UID:5143-1695477600-1695492000@lisledespagnac.fr
SUMMARY:RandÔtrésor
DESCRIPTION:La délégation charentaise de l’Association Neurofibromatoses et Recklinghausen organise samedi 23 septembre à partir de 14h sa deuxième RandÔtrésor. \n\n\nRandÔtrésor… Qu’est-ce que c’est ? \nC’est un mélange entre randonnée et chasse au trésor. \nVous partez d’un lieu donné\, répondez à la question puis suivez les indications (et les flèches) pour aller au point suivant. \nDeuxième RandÔtrésor… Ah bon ?? \nL’an dernier\, nous vous avions proposé un circuit de 5 km dans les rues de l’Isle d’Espagnac… \nCette année\, nous vous proposons 2 circuits (4\,3 et 7\,1 km) \nLe premier est accessible en poussette\, alors que le second ne l’est pas. \nLes questions sont inédites\, donc même si vous êtes déjà venus l’an dernier\, vous aurez un nouveau challenge. \nRassurez-vous\, vous trouverez de l’aide sur le parcours 😊 \nRandÔtrésor\, pourquoi ? \nTous les bénéfices de la journée iront pour aider la recherche pour en finir avec les neurofibromatoses. \nC’est un ensemble de maladies génétiques rares (1 naissance sur 3500) qui présente divers symptômes et se traduit par diverses atteintes (tumeurs bénignes ou malines\, pseudarthrose\, retard scolaire etc…) rendant la découverte d’un remède unique complexe. \nRandÔtrésor… Combien ?? \nLe tarif est de 3€ pour les enfants jusqu’à 10 ans et 5€ au-delà. \nBien sûr\, il est tout à fait possible d’offrir une participation supérieure. \nEt comment participer à la RandÔtrésor?? \nNous vous conseillons de vous inscrire en ligne : https://www.anrfrance.fr/collect/description/340157-g-randotresor-2023 \nEn effet\, nous sommes limités à 100 participants\, alors autant prévoir à l’avance. \nPour les personnes préférant venir au dernier moment\, c’est possible dans la limite des places disponibles ! \nEt j’y gagne quoi moi à la RandÔtrésor ? \nComme son nom l’indique\, il y a un trésor… Mais pour le découvrir\, il faut venir 😊 \nJ’ai encore une question sur la RandÔtrésor… ou sur l’A.N.R.\, les maladies etc… \nPlusieurs solutions s’offrent à vous pour contacter Anthony BERGERON\, délégué charentais de l’A.N.R. : \n\nPar mail : anthony.bergeron@anrfrance.fr\nPar téléphone : 06 76 82 26 29\n\n\n\n  \nL’ORGANISATEUR \nL’A.N.R. est une association nationale qui regroupe les malades atteints de neurofibromatose\, maladie génétique rare qui touche une naissance sur 3500 et représente environ 20 000 personnes en France. Nous sommes un réseau d’environ 1000 bénévoles partout en France présents pour accompagner\, écouter et informer les malades. De plus\, nous organisons des évènements pour récolter des fonds et ainsi soutenir la recherche. Plus d’informations sur www.anrfrance.fr \n 
URL:https://lisledespagnac.fr/agenda/randotresor/
LOCATION:Place François Mitterrand\, Place François Mitterrand\, L'Isle d'Espagnac\, 16340\, France
CATEGORIES:Vie Associative
ATTACH;FMTTYPE=image/jpeg:https://lisledespagnac.fr/wp-content/uploads/2023/08/lisle-despagnac-agenda-anr-randotresor-1.jpg
END:VEVENT
BEGIN:VEVENT
DTSTART;TZID=Europe/Paris:20230923T203000
DTEND;TZID=Europe/Paris:20230923T203000
DTSTAMP:20260423T210209
CREATED:20230831T093817Z
LAST-MODIFIED:20230831T093906Z
UID:5161-1695501000-1695501000@lisledespagnac.fr
SUMMARY:Atelier et bal de danse country
DESCRIPTION:Le club de country de L’Isle d’Espagnac vous propose un « workshop » avec David Lecaillon et Nicole Soury\, suivi d’un bal : \nDate | samedi 23 septembre 2023 \nHeure | à partir de 20h30 \nLieu | Espace Georges Brassens \nRéservation | obligatoire : rebeldancers19@gmail.com \nRenseignements | 06 16 61 59 30  \nBar et pâtisseries sur place
URL:https://lisledespagnac.fr/agenda/atelier-et-bal-de-danse-country/
LOCATION:Espace Georges Brassens\, 242 Avenue de La République\, L'Isle-d'Espagnac\, 16340
CATEGORIES:Vie Associative
ATTACH;FMTTYPE=image/png:https://lisledespagnac.fr/wp-content/uploads/2023/08/lisle-despagnac-agenda-rebel-dancers-country.png
END:VEVENT
END:VCALENDAR