BEGIN:VCALENDAR
VERSION:2.0
PRODID:-//Site officiel de L&#039;Isle d&#039;Espagnac - ECPv6.3.6//NONSGML v1.0//EN
CALSCALE:GREGORIAN
METHOD:PUBLISH
X-WR-CALNAME:Site officiel de L&#039;Isle d&#039;Espagnac
X-ORIGINAL-URL:https://lisledespagnac.fr
X-WR-CALDESC:Évènements pour Site officiel de L&#039;Isle d&#039;Espagnac
REFRESH-INTERVAL;VALUE=DURATION:PT1H
X-Robots-Tag:noindex
X-PUBLISHED-TTL:PT1H
BEGIN:VTIMEZONE
TZID:Europe/Paris
BEGIN:DAYLIGHT
TZOFFSETFROM:+0100
TZOFFSETTO:+0200
TZNAME:CEST
DTSTART:20240331T010000
END:DAYLIGHT
BEGIN:STANDARD
TZOFFSETFROM:+0200
TZOFFSETTO:+0100
TZNAME:CET
DTSTART:20241027T010000
END:STANDARD
END:VTIMEZONE
BEGIN:VEVENT
DTSTART;TZID=Europe/Paris:20240203T100000
DTEND;TZID=Europe/Paris:20240204T180000
DTSTAMP:20260423T104531
CREATED:20240117T160628Z
LAST-MODIFIED:20240117T160628Z
UID:5760-1706954400-1707069600@lisledespagnac.fr
SUMMARY:Exposition Playmob’Isle
DESCRIPTION:La délégation charentaise de l’A.N.R. organise les 03 et 04 février 2024 l’exposition Playmob’Isle dans la salle Georges Brassens à l’Isle d’Espagnac. \nL’exposition vous présentera des dioramas (saynètes) avec les personnages emblématiques dans diverses situations. \n  \nLes portes sont ouvertes au public de 10h à 18h samedi 03 et de 10h00 à 17h00 dimanche 04 février. \nL’entrée est payante\, à partir de 2€\, et contribuera à aider la recherche contre les neurofibromatoses. \n  \nL’A.N.R. vous proposera également une buvette et son stand de vente… et quelques surprises pendant les deux journées. \n  \nVenez nombreux\, parlez-en autour de vous pour en finir avec les neurofibromatoses ! \n  \nL’A.N.R. est une association nationale qui regroupe les malades atteints de neurofibromatose\, maladie génétique rare qui touche une naissance sur 3500 et représente environ 20 000 personnes en France. Nous sommes un réseau d’environ 1000 bénévoles partout en France présents pour accompagner\, écouter et informer les malades. De plus\, nous organisons des évènements pour récolter des fonds et ainsi soutenir la recherche. Plus d’informations sur www.anrfrance.fr
URL:https://lisledespagnac.fr/agenda/exposition-playmobisle/
LOCATION:Espace Georges Brassens\, 242 Avenue de La République\, L'Isle-d'Espagnac\, 16340
CATEGORIES:Vie Associative
ATTACH;FMTTYPE=image/jpeg:https://lisledespagnac.fr/wp-content/uploads/2024/01/lisle-despagnac-agenda-expo-playmobil-anr.jpg
END:VEVENT
END:VCALENDAR